Package: speckle Version: 1.9.1 Command: /home/biocbuild/bbs-3.22-bioc/R/bin/R CMD INSTALL speckle StartedAt: 2025-10-19 15:24:18 -0400 (Sun, 19 Oct 2025) EndedAt: 2025-10-19 15:24:55 -0400 (Sun, 19 Oct 2025) EllapsedTime: 36.4 seconds RetCode: 0 Status: OK