Package: speckle Version: 1.9.1 Command: /home/biocbuild/bbs-3.22-bioc/R/bin/R CMD check --install=check:speckle.install-out.txt --library=/home/biocbuild/bbs-3.22-bioc/R/site-library --timings speckle_1.9.1.tar.gz StartedAt: 2025-10-20 05:10:50 -0400 (Mon, 20 Oct 2025) EndedAt: 2025-10-20 05:15:18 -0400 (Mon, 20 Oct 2025) EllapsedTime: 268.2 seconds RetCode: 1 Status: ERROR CheckDir: speckle.Rcheck Warnings: NA