Package: speckle Version: 1.9.1 Command: /home/biocbuild/bbs-3.22-bioc/R/bin/R CMD build --keep-empty-dirs --no-resave-data --md5 speckle StartedAt: 2025-10-19 20:14:06 -0400 (Sun, 19 Oct 2025) EndedAt: 2025-10-19 20:15:29 -0400 (Sun, 19 Oct 2025) EllapsedTime: 83.1 seconds RetCode: 0 Status: OK PackageFile: speckle_1.9.1.tar.gz PackageFileSize: 1.351 MiB