Package: speckle Version: 1.9.1 Command: /Library/Frameworks/R.framework/Resources/bin/R CMD build --keep-empty-dirs --no-resave-data speckle StartedAt: 2025-10-19 19:37:29 -0400 (Sun, 19 Oct 2025) EndedAt: 2025-10-19 19:39:38 -0400 (Sun, 19 Oct 2025) EllapsedTime: 128.8 seconds RetCode: 0 Status: OK PackageFile: speckle_1.9.1.tar.gz PackageFileSize: 1.378 MiB