Package: speckle Version: 1.9.1 Command: /Library/Frameworks/R.framework/Resources/bin/R CMD check --install=check:speckle.install-out.txt --library=/Library/Frameworks/R.framework/Resources/library --no-vignettes --timings speckle_1.9.1.tar.gz StartedAt: 2025-10-19 22:12:21 -0400 (Sun, 19 Oct 2025) EndedAt: 2025-10-19 22:14:02 -0400 (Sun, 19 Oct 2025) EllapsedTime: 100.2 seconds RetCode: 0 Status: OK CheckDir: speckle.Rcheck Warnings: 0