Package: speckle Version: 1.9.1 Maintainer: Belinda Phipson MaintainerEmail: phipson.b at wehi.edu.au git_url: https://git.bioconductor.org/packages/speckle git_branch: devel git_last_commit: f695710 git_last_commit_date: 2025-10-14 15:01:16 -0400 (Tue, 14 Oct 2025)