Package: spatialDE Version: 1.15.1 Command: /home/biocbuild/bbs-3.22-bioc/R/bin/R CMD INSTALL spatialDE StartedAt: 2025-10-19 16:02:17 -0400 (Sun, 19 Oct 2025) EndedAt: 2025-10-19 16:02:38 -0400 (Sun, 19 Oct 2025) EllapsedTime: 21.3 seconds RetCode: 0 Status: OK