Package: spatialDE Version: 1.15.1 Command: /home/biocbuild/bbs-3.22-bioc/R/bin/R CMD check --install=check:spatialDE.install-out.txt --library=/home/biocbuild/bbs-3.22-bioc/R/site-library --timings spatialDE_1.15.1.tar.gz StartedAt: 2025-10-20 05:07:47 -0400 (Mon, 20 Oct 2025) EndedAt: 2025-10-20 05:13:11 -0400 (Mon, 20 Oct 2025) EllapsedTime: 324.3 seconds RetCode: 0 Status: OK CheckDir: spatialDE.Rcheck Warnings: 0