Package: spatialDE Version: 1.15.1 Command: /home/biocbuild/bbs-3.22-bioc/R/bin/R CMD build --keep-empty-dirs --no-resave-data --md5 spatialDE StartedAt: 2025-10-19 20:12:35 -0400 (Sun, 19 Oct 2025) EndedAt: 2025-10-19 20:14:22 -0400 (Sun, 19 Oct 2025) EllapsedTime: 107.1 seconds RetCode: 0 Status: OK PackageFile: spatialDE_1.15.1.tar.gz PackageFileSize: 3.713 MiB