Package: spatialDE Version: 1.15.1 Command: /Library/Frameworks/R.framework/Resources/bin/R CMD check --install=check:spatialDE.install-out.txt --library=/Library/Frameworks/R.framework/Resources/library --no-vignettes --timings spatialDE_1.15.1.tar.gz StartedAt: 2025-10-21 01:56:14 -0400 (Tue, 21 Oct 2025) EndedAt: 2025-10-21 02:01:15 -0400 (Tue, 21 Oct 2025) EllapsedTime: 300.8 seconds RetCode: 0 Status: OK CheckDir: spatialDE.Rcheck Warnings: 0