Package: spatialDE Version: 1.15.1 Command: rm -rf spatialDE.buildbin-libdir && mkdir spatialDE.buildbin-libdir && /Users/biocbuild/BBS/utils/build-universal.sh spatialDE_1.15.1.tar.gz /Library/Frameworks/R.framework/Resources/bin/R spatialDE.buildbin-libdir StartedAt: 2025-10-19 23:17:25 -0400 (Sun, 19 Oct 2025) EndedAt: 2025-10-19 23:17:35 -0400 (Sun, 19 Oct 2025) EllapsedTime: 10.2 seconds RetCode: 0 Status: OK PackageFile: spatialDE_1.15.1.tgz PackageFileSize: 3.947 MiB