Package: sparrow Version: 1.15.0 Command: F:\biocbuild\bbs-3.22-bioc\R\bin\R.exe CMD check --no-multiarch --install=check:sparrow.install-out.txt --library=F:\biocbuild\bbs-3.22-bioc\R\library --no-vignettes --timings sparrow_1.15.0.tar.gz StartedAt: 2025-08-15 08:07:42 -0400 (Fri, 15 Aug 2025) EndedAt: 2025-08-15 08:22:05 -0400 (Fri, 15 Aug 2025) EllapsedTime: 863.4 seconds RetCode: 0 Status: OK CheckDir: sparrow.Rcheck Warnings: 0