Package: sparrow Version: 1.15.0 Command: /home/biocbuild/bbs-3.22-bioc/R/bin/R CMD check --install=check:sparrow.install-out.txt --library=/home/biocbuild/bbs-3.22-bioc/R/site-library --timings sparrow_1.15.0.tar.gz StartedAt: 2025-10-20 05:04:35 -0400 (Mon, 20 Oct 2025) EndedAt: 2025-10-20 05:13:55 -0400 (Mon, 20 Oct 2025) EllapsedTime: 560.4 seconds RetCode: 0 Status: OK CheckDir: sparrow.Rcheck Warnings: 0