Package: sparrow Version: 1.15.0 Command: /home/biocbuild/bbs-3.22-bioc/R/bin/R CMD build --keep-empty-dirs --no-resave-data --md5 sparrow StartedAt: 2025-10-19 20:11:12 -0400 (Sun, 19 Oct 2025) EndedAt: 2025-10-19 20:13:17 -0400 (Sun, 19 Oct 2025) EllapsedTime: 125.1 seconds RetCode: 0 Status: OK PackageFile: sparrow_1.15.0.tar.gz PackageFileSize: 4.137 MiB