Package: sparrow Version: 1.15.0 Command: /Library/Frameworks/R.framework/Resources/bin/R CMD INSTALL sparrow StartedAt: 2025-10-20 15:25:35 -0400 (Mon, 20 Oct 2025) EndedAt: 2025-10-20 15:26:21 -0400 (Mon, 20 Oct 2025) EllapsedTime: 45.3 seconds RetCode: 0 Status: OK