Package: sparrow Version: 1.15.0 Command: /Library/Frameworks/R.framework/Resources/bin/R CMD check --install=check:sparrow.install-out.txt --library=/Library/Frameworks/R.framework/Resources/library --no-vignettes --timings sparrow_1.15.0.tar.gz StartedAt: 2025-10-21 01:54:48 -0400 (Tue, 21 Oct 2025) EndedAt: 2025-10-21 02:04:20 -0400 (Tue, 21 Oct 2025) EllapsedTime: 572.2 seconds RetCode: 0 Status: OK CheckDir: sparrow.Rcheck Warnings: 0