Package: sparrow Version: 1.15.0 Command: /Library/Frameworks/R.framework/Resources/bin/R CMD INSTALL sparrow StartedAt: 2025-10-19 15:09:38 -0400 (Sun, 19 Oct 2025) EndedAt: 2025-10-19 15:09:51 -0400 (Sun, 19 Oct 2025) EllapsedTime: 12.6 seconds RetCode: 0 Status: OK