Package: sparrow Version: 1.15.0 Command: rm -rf sparrow.buildbin-libdir && mkdir sparrow.buildbin-libdir && /Users/biocbuild/BBS/utils/build-universal.sh sparrow_1.15.0.tar.gz /Library/Frameworks/R.framework/Resources/bin/R sparrow.buildbin-libdir StartedAt: 2025-10-19 23:17:14 -0400 (Sun, 19 Oct 2025) EndedAt: 2025-10-19 23:17:28 -0400 (Sun, 19 Oct 2025) EllapsedTime: 14.3 seconds RetCode: 0 Status: OK PackageFile: sparrow_1.15.0.tgz PackageFileSize: 4.571 MiB