Package: spARI Version: 1.0.0 Command: /home/biocbuild/R/R/bin/R CMD INSTALL spARI StartedAt: 2025-11-10 21:28:08 -0000 (Mon, 10 Nov 2025) EndedAt: 2025-11-10 21:28:48 -0000 (Mon, 10 Nov 2025) EllapsedTime: 40.3 seconds RetCode: 0 Status: OK