Package: spARI Version: 1.0.0 Command: /home/biocbuild/R/R/bin/R CMD build --keep-empty-dirs --no-resave-data spARI StartedAt: 2025-11-14 05:32:58 -0000 (Fri, 14 Nov 2025) EndedAt: 2025-11-14 05:34:45 -0000 (Fri, 14 Nov 2025) EllapsedTime: 107.1 seconds RetCode: 0 Status: OK PackageFile: spARI_1.0.0.tar.gz PackageFileSize: 290.5 KiB