Package: spARI Version: 0.99.17 Command: /Library/Frameworks/R.framework/Resources/bin/R CMD check --install=check:spARI.install-out.txt --library=/Library/Frameworks/R.framework/Resources/library --no-vignettes --timings spARI_0.99.17.tar.gz StartedAt: 2025-10-04 00:51:20 -0400 (Sat, 04 Oct 2025) EndedAt: 2025-10-04 00:54:24 -0400 (Sat, 04 Oct 2025) EllapsedTime: 183.3 seconds RetCode: 0 Status: OK CheckDir: spARI.Rcheck Warnings: 0