Package: sosta Version: 1.1.2 Command: /home/biocbuild/R/R/bin/R CMD check --install=check:sosta.install-out.txt --library=/home/biocbuild/R/R/site-library --no-vignettes --timings sosta_1.1.2.tar.gz StartedAt: 2025-10-17 13:51:16 -0000 (Fri, 17 Oct 2025) EndedAt: 2025-10-17 13:59:00 -0000 (Fri, 17 Oct 2025) EllapsedTime: 463.5 seconds RetCode: 0 Status: OK CheckDir: sosta.Rcheck Warnings: 0