Package: sosta Version: 1.1.2 Command: /home/biocbuild/R/R/bin/R CMD build --keep-empty-dirs --no-resave-data sosta StartedAt: 2025-10-21 03:17:54 -0000 (Tue, 21 Oct 2025) EndedAt: 2025-10-21 03:25:36 -0000 (Tue, 21 Oct 2025) EllapsedTime: 462.2 seconds RetCode: 0 Status: OK PackageFile: sosta_1.1.2.tar.gz PackageFileSize: 2.374 MiB