Package: sosta Version: 1.1.4 Command: /Library/Frameworks/R.framework/Resources/bin/R CMD check --install=check:sosta.install-out.txt --library=/Library/Frameworks/R.framework/Resources/library --no-vignettes --timings sosta_1.1.4.tar.gz StartedAt: 2025-10-25 00:26:27 -0400 (Sat, 25 Oct 2025) EndedAt: 2025-10-25 00:32:56 -0400 (Sat, 25 Oct 2025) EllapsedTime: 389.5 seconds RetCode: 0 Status: OK CheckDir: sosta.Rcheck Warnings: 0