Package: sosta Version: 1.1.4 Command: /Library/Frameworks/R.framework/Resources/bin/R CMD build --keep-empty-dirs --no-resave-data sosta StartedAt: 2025-10-24 18:51:53 -0400 (Fri, 24 Oct 2025) EndedAt: 2025-10-24 18:59:06 -0400 (Fri, 24 Oct 2025) EllapsedTime: 432.4 seconds RetCode: 0 Status: OK PackageFile: sosta_1.1.4.tar.gz PackageFileSize: 6.189 MiB