Package: sosta Version: 1.1.2 Command: /Library/Frameworks/R.framework/Resources/bin/R CMD build --keep-empty-dirs --no-resave-data sosta StartedAt: 2025-10-23 17:52:23 -0400 (Thu, 23 Oct 2025) EndedAt: 2025-10-23 17:54:57 -0400 (Thu, 23 Oct 2025) EllapsedTime: 153.7 seconds RetCode: 0 Status: OK PackageFile: sosta_1.1.2.tar.gz PackageFileSize: 5.61 MiB