Package: sosta Version: 1.1.2 Command: rm -rf sosta.buildbin-libdir && mkdir sosta.buildbin-libdir && /Users/biocbuild/BBS/utils/build-universal.sh sosta_1.1.2.tar.gz /Library/Frameworks/R.framework/Resources/bin/R sosta.buildbin-libdir StartedAt: 2025-10-23 23:28:04 -0400 (Thu, 23 Oct 2025) EndedAt: 2025-10-23 23:28:22 -0400 (Thu, 23 Oct 2025) EllapsedTime: 18.4 seconds RetCode: 0 Status: OK PackageFile: sosta_1.1.2.tgz PackageFileSize: 5.69 MiB