Package: sosta Version: 1.1.2 Maintainer: Samuel Gunz MaintainerEmail: samuel.gunz at uzh.ch git_url: https://git.bioconductor.org/packages/sosta git_branch: devel git_last_commit: aef9e03 git_last_commit_date: 2025-10-14 15:00:13 -0400 (Tue, 14 Oct 2025)