Package: soGGi Version: 1.42.0 Command: /home/biocbuild/R/R/bin/R CMD INSTALL soGGi StartedAt: 2025-11-13 22:03:37 -0000 (Thu, 13 Nov 2025) EndedAt: 2025-11-13 22:04:34 -0000 (Thu, 13 Nov 2025) EllapsedTime: 56.8 seconds RetCode: 0 Status: OK