Package: soGGi Version: 1.42.0 Command: /home/biocbuild/R/R/bin/R CMD build --keep-empty-dirs --no-resave-data soGGi StartedAt: 2025-11-14 05:31:02 -0000 (Fri, 14 Nov 2025) EndedAt: 2025-11-14 05:32:53 -0000 (Fri, 14 Nov 2025) EllapsedTime: 111.1 seconds RetCode: 0 Status: OK PackageFile: soGGi_1.42.0.tar.gz PackageFileSize: 3.16 MiB