Package: soGGi Version: 1.42.0 Command: /home/biocbuild/bbs-3.22-bioc/R/bin/R CMD check --install=check:soGGi.install-out.txt --library=/home/biocbuild/bbs-3.22-bioc/R/site-library --timings soGGi_1.42.0.tar.gz StartedAt: 2025-11-14 04:23:12 -0500 (Fri, 14 Nov 2025) EndedAt: 2025-11-14 04:28:47 -0500 (Fri, 14 Nov 2025) EllapsedTime: 335.3 seconds RetCode: 1 Status: ERROR CheckDir: soGGi.Rcheck Warnings: NA