Package: soGGi Version: 1.42.0 Command: /Library/Frameworks/R.framework/Resources/bin/R CMD build --keep-empty-dirs --no-resave-data soGGi StartedAt: 2025-11-10 17:48:44 -0500 (Mon, 10 Nov 2025) EndedAt: 2025-11-10 17:49:19 -0500 (Mon, 10 Nov 2025) EllapsedTime: 35.3 seconds RetCode: 0 Status: OK PackageFile: soGGi_1.42.0.tar.gz PackageFileSize: 3.318 MiB