Package: soGGi Version: 1.42.0 Maintainer: Tom Carroll MaintainerEmail: tc.infomatics at gmail.com git_url: https://git.bioconductor.org/packages/soGGi git_branch: RELEASE_3_22 git_last_commit: 857d021 git_last_commit_date: 2025-10-29 10:25:37 -0500 (Wed, 29 Oct 2025)