Package: snpStats Version: 1.59.2 Command: /home/biocbuild/R/R/bin/R CMD INSTALL snpStats StartedAt: 2025-10-23 20:30:23 -0000 (Thu, 23 Oct 2025) EndedAt: 2025-10-23 20:30:48 -0000 (Thu, 23 Oct 2025) EllapsedTime: 24.6 seconds RetCode: 0 Status: OK