Package: snpStats Version: 1.59.2 Command: /home/biocbuild/R/R/bin/R CMD check --install=check:snpStats.install-out.txt --library=/home/biocbuild/R/R/site-library --no-vignettes --timings snpStats_1.59.2.tar.gz StartedAt: 2025-10-17 13:51:00 -0000 (Fri, 17 Oct 2025) EndedAt: 2025-10-17 13:52:26 -0000 (Fri, 17 Oct 2025) EllapsedTime: 86.1 seconds RetCode: 0 Status: WARNINGS CheckDir: snpStats.Rcheck Warnings: 2