Package: snpStats Version: 1.59.2 Command: /home/biocbuild/R/R/bin/R CMD build --keep-empty-dirs --no-resave-data snpStats StartedAt: 2025-10-21 03:17:33 -0000 (Tue, 21 Oct 2025) EndedAt: 2025-10-21 03:18:51 -0000 (Tue, 21 Oct 2025) EllapsedTime: 78.0 seconds RetCode: 0 Status: OK PackageFile: snpStats_1.59.2.tar.gz PackageFileSize: 7.667 MiB