Package: snpStats Version: 1.59.2 Command: /home/biocbuild/bbs-3.22-bioc/R/bin/R CMD check --install=check:snpStats.install-out.txt --library=/home/biocbuild/bbs-3.22-bioc/R/site-library --timings snpStats_1.59.2.tar.gz StartedAt: 2025-10-20 05:02:43 -0400 (Mon, 20 Oct 2025) EndedAt: 2025-10-20 05:04:38 -0400 (Mon, 20 Oct 2025) EllapsedTime: 115.1 seconds RetCode: 0 Status: WARNINGS CheckDir: snpStats.Rcheck Warnings: 2