Package: snpStats Version: 1.59.2 Command: /Library/Frameworks/R.framework/Resources/bin/R CMD INSTALL snpStats StartedAt: 2025-10-23 15:14:10 -0400 (Thu, 23 Oct 2025) EndedAt: 2025-10-23 15:14:34 -0400 (Thu, 23 Oct 2025) EllapsedTime: 24.3 seconds RetCode: 0 Status: OK