Package: snpStats Version: 1.59.2 Command: /Library/Frameworks/R.framework/Resources/bin/R CMD check --install=check:snpStats.install-out.txt --library=/Library/Frameworks/R.framework/Resources/library --no-vignettes --timings snpStats_1.59.2.tar.gz StartedAt: 2025-10-25 00:25:55 -0400 (Sat, 25 Oct 2025) EndedAt: 2025-10-25 00:27:14 -0400 (Sat, 25 Oct 2025) EllapsedTime: 78.9 seconds RetCode: 0 Status: WARNINGS CheckDir: snpStats.Rcheck Warnings: 2