Package: snpStats Version: 1.59.2 Command: rm -rf snpStats.buildbin-libdir && mkdir snpStats.buildbin-libdir && /Users/biocbuild/BBS/utils/build-universal.sh snpStats_1.59.2.tar.gz /Library/Frameworks/R.framework/Resources/bin/R snpStats.buildbin-libdir StartedAt: 2025-10-24 01:59:32 -0400 (Fri, 24 Oct 2025) EndedAt: 2025-10-24 02:00:03 -0400 (Fri, 24 Oct 2025) EllapsedTime: 31.1 seconds RetCode: 0 Status: OK PackageFile: snpStats_1.59.2.tgz PackageFileSize: 8.519 MiB