Package: snpStats Version: 1.59.2 Command: /Library/Frameworks/R.framework/Resources/bin/R CMD INSTALL snpStats StartedAt: 2025-10-19 15:06:35 -0400 (Sun, 19 Oct 2025) EndedAt: 2025-10-19 15:06:42 -0400 (Sun, 19 Oct 2025) EllapsedTime: 7.1 seconds RetCode: 0 Status: OK