Package: snpStats Version: 1.59.2 Command: /Library/Frameworks/R.framework/Resources/bin/R CMD check --install=check:snpStats.install-out.txt --library=/Library/Frameworks/R.framework/Resources/library --no-vignettes --timings snpStats_1.59.2.tar.gz StartedAt: 2025-10-19 22:08:07 -0400 (Sun, 19 Oct 2025) EndedAt: 2025-10-19 22:08:36 -0400 (Sun, 19 Oct 2025) EllapsedTime: 29.3 seconds RetCode: 0 Status: WARNINGS CheckDir: snpStats.Rcheck Warnings: 2