Package: snifter Version: 1.19.3 Command: F:\biocbuild\bbs-3.22-bioc\R\bin\R.exe CMD check --no-multiarch --install=check:snifter.install-out.txt --library=F:\biocbuild\bbs-3.22-bioc\R\library --no-vignettes --timings snifter_1.19.3.tar.gz StartedAt: 2025-08-15 08:03:28 -0400 (Fri, 15 Aug 2025) EndedAt: 2025-08-15 08:06:31 -0400 (Fri, 15 Aug 2025) EllapsedTime: 183.1 seconds RetCode: 0 Status: OK CheckDir: snifter.Rcheck Warnings: 0