Package: snapcount Version: 1.21.0 Command: /home/biocbuild/bbs-3.22-bioc/R/bin/R CMD build --keep-empty-dirs --no-resave-data --md5 snapcount StartedAt: 2025-10-20 20:06:06 -0400 (Mon, 20 Oct 2025) EndedAt: 2025-10-20 20:07:36 -0400 (Mon, 20 Oct 2025) EllapsedTime: 90.1 seconds RetCode: 0 Status: OK PackageFile: snapcount_1.21.0.tar.gz PackageFileSize: 516 KiB