Package: snapcount Version: 1.21.0 Command: /Library/Frameworks/R.framework/Resources/bin/R CMD INSTALL snapcount StartedAt: 2025-10-24 15:33:21 -0400 (Fri, 24 Oct 2025) EndedAt: 2025-10-24 15:34:02 -0400 (Fri, 24 Oct 2025) EllapsedTime: 41.2 seconds RetCode: 0 Status: OK