Package: snapcount Version: 1.21.0 Command: /Library/Frameworks/R.framework/Resources/bin/R CMD check --install=check:snapcount.install-out.txt --library=/Library/Frameworks/R.framework/Resources/library --no-vignettes --timings snapcount_1.21.0.tar.gz StartedAt: 2025-10-20 22:08:56 -0400 (Mon, 20 Oct 2025) EndedAt: 2025-10-20 22:12:21 -0400 (Mon, 20 Oct 2025) EllapsedTime: 205.2 seconds RetCode: 0 Status: OK CheckDir: snapcount.Rcheck Warnings: 0