Package: snapcount Version: 1.21.0 Command: /Library/Frameworks/R.framework/Resources/bin/R CMD build --keep-empty-dirs --no-resave-data snapcount StartedAt: 2025-10-20 17:45:47 -0400 (Mon, 20 Oct 2025) EndedAt: 2025-10-20 17:46:55 -0400 (Mon, 20 Oct 2025) EllapsedTime: 67.7 seconds RetCode: 0 Status: OK PackageFile: snapcount_1.21.0.tar.gz PackageFileSize: 514 KiB