Package: smoppix Version: 1.1.8 Command: /home/biocbuild/R/R/bin/R CMD check --install=check:smoppix.install-out.txt --library=/home/biocbuild/R/R/site-library --no-vignettes --timings smoppix_1.1.8.tar.gz StartedAt: 2025-09-30 13:24:09 -0000 (Tue, 30 Sep 2025) EndedAt: 2025-09-30 13:35:48 -0000 (Tue, 30 Sep 2025) EllapsedTime: 698.5 seconds RetCode: 0 Status: OK CheckDir: smoppix.Rcheck Warnings: 0