Package: smoppix Version: 1.1.8 Command: /home/biocbuild/R/R/bin/R CMD build --keep-empty-dirs --no-resave-data smoppix StartedAt: 2025-10-03 03:18:58 -0000 (Fri, 03 Oct 2025) EndedAt: 2025-10-03 03:58:59 -0000 (Fri, 03 Oct 2025) EllapsedTime: 2400.8 seconds RetCode: None Status: TIMEOUT PackageFile: None PackageFileSize: NA