Package: smoppix Version: 1.1.10 Command: /Library/Frameworks/R.framework/Resources/bin/R CMD INSTALL smoppix StartedAt: 2025-10-24 15:32:22 -0400 (Fri, 24 Oct 2025) EndedAt: 2025-10-24 15:33:24 -0400 (Fri, 24 Oct 2025) EllapsedTime: 62.7 seconds RetCode: 0 Status: OK